BEGIN:VCALENDAR
VERSION:2.0
PRODID:-//Massimo Sorgente Cantautore - ECPv6.15.20//NONSGML v1.0//EN
CALSCALE:GREGORIAN
METHOD:PUBLISH
X-ORIGINAL-URL:https://www.massimosorgente.com
X-WR-CALDESC:Eventi per Massimo Sorgente Cantautore
REFRESH-INTERVAL;VALUE=DURATION:PT1H
X-Robots-Tag:noindex
X-PUBLISHED-TTL:PT1H
BEGIN:VTIMEZONE
TZID:Europe/Rome
BEGIN:DAYLIGHT
TZOFFSETFROM:+0100
TZOFFSETTO:+0200
TZNAME:CEST
DTSTART:20150329T010000
END:DAYLIGHT
BEGIN:STANDARD
TZOFFSETFROM:+0200
TZOFFSETTO:+0100
TZNAME:CET
DTSTART:20151025T010000
END:STANDARD
BEGIN:DAYLIGHT
TZOFFSETFROM:+0100
TZOFFSETTO:+0200
TZNAME:CEST
DTSTART:20160327T010000
END:DAYLIGHT
BEGIN:STANDARD
TZOFFSETFROM:+0200
TZOFFSETTO:+0100
TZNAME:CET
DTSTART:20161030T010000
END:STANDARD
BEGIN:DAYLIGHT
TZOFFSETFROM:+0100
TZOFFSETTO:+0200
TZNAME:CEST
DTSTART:20170326T010000
END:DAYLIGHT
BEGIN:STANDARD
TZOFFSETFROM:+0200
TZOFFSETTO:+0100
TZNAME:CET
DTSTART:20171029T010000
END:STANDARD
END:VTIMEZONE
BEGIN:VEVENT
DTSTART;TZID=Europe/Rome:20160618T210000
DTEND;TZID=Europe/Rome:20160618T230000
DTSTAMP:20260416T120425
CREATED:20160420T082556Z
LAST-MODIFIED:20160614T115123Z
UID:3408-1466283600-1466290800@www.massimosorgente.com
SUMMARY:Live presso "Eco Bistrot"
DESCRIPTION:Max Sorgente Trio
URL:https://www.massimosorgente.com/evento/live-presso-eco-bistrot/
LOCATION:Eco Bistrot\, Lungomare Colombo\, 23\, Salerno\, 84128\, Italia
CATEGORIES:Live
END:VEVENT
END:VCALENDAR